BEGIN:VCALENDAR
VERSION:2.0
PRODID:-//Squarespace Inc/Squarespace 6//v6//EN
BEGIN:VEVENT
UID:5826bc0d4402436cc94d785a@squarespace.com
DTSTAMP:20170110T005048Z
DTSTART:20161113T000000Z
DTEND:20161113T060000Z
SUMMARY:Rose Street Artist Market
GEO:-37.795919;144.977457
LOCATION:Rose Street Artist Market\, 60 Rose Street\, Fitzroy\, VIC\, 3065\
 , Australia
END:VEVENT
END:VCALENDAR
