BEGIN:VCALENDAR
VERSION:2.0
PRODID:-//Squarespace Inc/Squarespace 6//v6//EN
BEGIN:VEVENT
UID:5826f0d9d482e98c457a84ab@squarespace.com
DTSTAMP:20161112T120414Z
DTSTART:20161202T223000Z
DTEND:20161204T040000Z
SUMMARY:Piccadilly Market @ Geelong
GEO:-38.143304;144.360389
LOCATION:Piccadilly Market\, 1 Gheringhap Street\, Geelong\, VIC\, 3220\, A
 ustralia
END:VEVENT
END:VCALENDAR
