BEGIN:VCALENDAR
VERSION:2.0
PRODID:-//Squarespace Inc/Squarespace 6//v6//EN
BEGIN:VEVENT
UID:58742ddc1b10e3bd91c9714c@squarespace.com
DTSTAMP:20170331T232459Z
DTSTART:20170114T000000Z
DTEND:20170429T070000Z
SUMMARY:Jan-April Saturday Markets at Rose Street
GEO:-37.795919;144.977457
LOCATION:Rose St Artist Market\, 60 Rose St\, Fitzroy VIC 3065\, Australia
END:VEVENT
END:VCALENDAR
