BEGIN:VCALENDAR
VERSION:2.0
PRODID:-//Squarespace Inc/Squarespace 6//v6//EN
BEGIN:VEVENT
UID:59e957d9a8b2b0144cfb1353@squarespace.com
DTSTAMP:20171020T042953Z
DTSTART:20170902T010000Z
DTEND:20171223T060000Z
SUMMARY:Rose Street Artist Market- All Saturdays and a few Sunday
GEO:-37.795848;144.977307
LOCATION:Rose Street Artist Market\, 60 Rose Street\, Fitzroy\, VIC\, 3065\
 , Australia
END:VEVENT
END:VCALENDAR
