BEGIN:VCALENDAR
VERSION:2.0
PRODID:-//Squarespace Inc/Squarespace 6//v6//EN
BEGIN:VEVENT
UID:59e95ab6268b9646698dba7a@squarespace.com
DTSTAMP:20171020T042833Z
DTSTART:20171124T230000Z
DTEND:20171126T050000Z
SUMMARY:Melbourne Ceramics Market | Nov 25 26
GEO:-37.797828;144.985198
LOCATION:fiveasyupstairs\, 5 Easey Street\, Collingwood\, VIC\, 3066\, Aust
 ralia
END:VEVENT
END:VCALENDAR
