BEGIN:VCALENDAR
VERSION:2.0
PRODID:-//Squarespace Inc/Squarespace 6//v6//EN
BEGIN:VEVENT
UID:58c1eae75016e17d84e56275@squarespace.com
DTSTAMP:20170331T232336Z
DTSTART:20170317T230000Z
DTEND:20170318T050000Z
SUMMARY:Craft Hatch Market @ 1000 £ Bend 
GEO:-37.811598;144.96124
LOCATION:1000 £ Bend\, 361 Little Lonsdale Street\, Melbourne\, VIC\, 3000\
 , Australia
END:VEVENT
END:VCALENDAR
