BEGIN:VCALENDAR
VERSION:2.0
PRODID:-//Squarespace Inc/Squarespace 6//v6//EN
BEGIN:VEVENT
UID:58c1e603e3df28a52ab94582@squarespace.com
DTSTAMP:20170309T235222Z
DTSTART:20170308T060000Z
DTEND:20170308T103000Z
SUMMARY:Welcome to Thornbury Twilight Market
GEO:-37.764708;144.999869
LOCATION:Welcome to Thornbury\, 520 High Street\, Thornbury\, VIC\, 3071\, 
 Australia
END:VEVENT
END:VCALENDAR
