BEGIN:VCALENDAR
VERSION:2.0
PRODID:-//Squarespace Inc/Squarespace 6//v6//EN
BEGIN:VEVENT
UID:58ed867cdb29d6d9e7f0dd8b@squarespace.com
DTSTAMP:20170412T014941Z
DTSTART:20170412T070000Z
DTEND:20170412T113000Z
SUMMARY:Welcome to Thornbury Twilight Market
GEO:-37.764708;144.999869
LOCATION:Welcome to Thornbury\, 520 High Street\, Thornbury\, VIC\, 3071\, 
 Australia
END:VEVENT
END:VCALENDAR
