BEGIN:VCALENDAR
VERSION:2.0
PRODID:-//Squarespace Inc/Squarespace 6//v6//EN
BEGIN:VEVENT
UID:5907d6ffb8a79be0571bf057@squarespace.com
DTSTAMP:20170502T011531Z
DTSTART:20170506T010000Z
DTEND:20170827T070000Z
SUMMARY:Rose Street Artist Market- EVERY Saturday + Sunday!
GEO:-37.795919;144.977457
LOCATION:Rose Street Artist Market\, 60 Rose Street\, Fitzroy\, VIC\, 3065\
 , Australia
END:VEVENT
END:VCALENDAR
