BEGIN:VCALENDAR
VERSION:2.0
PRODID:-//Squarespace Inc/Squarespace 6//v6//EN
BEGIN:VEVENT
UID:5907d272be6594bddd38caec@squarespace.com
DTSTAMP:20170502T004536Z
DTSTART:20170505T070000Z
DTEND:20170505T110000Z
SUMMARY:Feel Good Ethical Market @Diamond Creek
GEO:-37.673585;145.149428
LOCATION:61 Main Street\, Diamond Creek\, VIC\, 3089\, Australia
END:VEVENT
END:VCALENDAR
