BEGIN:VCALENDAR
VERSION:2.0
PRODID:-//Squarespace Inc/Squarespace 6//v6//EN
BEGIN:VEVENT
UID:59e959d1692ebe78a32bb356@squarespace.com
DTSTAMP:20171020T041937Z
DTSTART:20170916T000000Z
DTEND:20170916T050000Z
SUMMARY:Bendigo Creators Market
END:VEVENT
END:VCALENDAR
