BEGIN:VCALENDAR
VERSION:2.0
PRODID:-//Squarespace Inc/Squarespace 6//v6//EN
BEGIN:VEVENT
UID:5b4c72422b6a280d52db30f8@squarespace.com
DTSTAMP:20181106T001913Z
DTSTART:20181109T230000Z
DTEND:20181111T050000Z
SUMMARY:Melbourne Ceramics Market
GEO:-37.797798;144.985236
LOCATION:Five Easey Upstairs\, 5 Easey Street\, Collingwood\, VIC\, 3066\, 
 Australia
END:VEVENT
END:VCALENDAR
