BEGIN:VCALENDAR
VERSION:2.0
PRODID:-//Squarespace Inc/Squarespace 6//v6//EN
BEGIN:VEVENT
UID:5c00852521c67ccb4431fa68@squarespace.com
DTSTAMP:20181130T003743Z
DTSTART:20181130T230000Z
DTEND:20181201T050000Z
SUMMARY:Craft Hatch Market
GEO:-37.797798;144.985236
LOCATION:5 Easey Street\, Collingwood\, VIC\, 3066\, Australia
END:VEVENT
END:VCALENDAR
