BEGIN:VCALENDAR
VERSION:2.0
PRODID:-//Squarespace Inc/Squarespace 6//v6//EN
BEGIN:VEVENT
UID:5c008669575d1f563da274a1@squarespace.com
DTSTAMP:20181130T004914Z
DTSTART:20181207T040000Z
DTEND:20181214T120000Z
SUMMARY:Fitzory Street Market @ St Kilda
GEO:-37.85951;144.977945
LOCATION:Fitzroy Street\, Saint Kilda\, VIC\, 3182\, Australia
END:VEVENT
END:VCALENDAR
