BEGIN:VCALENDAR
VERSION:2.0
PRODID:-//Squarespace Inc/Squarespace 6//v6//EN
BEGIN:VEVENT
UID:5b2aa80503ce649c07e4813f@squarespace.com
DTSTAMP:20180620T193842Z
DTSTART:20180622T020000Z
DTEND:20180622T110000Z
SUMMARY:Finders Keepers Brisbane June Autumn/Winter 2018 Market
GEO:-27.451448;153.031483
LOCATION:Brisbane Showgrounds\, The Marquee\, Gregory Terrace\, Bowen Hills
 \, QLD\, 4006\, Australia
END:VEVENT
END:VCALENDAR
