BEGIN:VCALENDAR
VERSION:2.0
PRODID:-//Squarespace Inc/Squarespace 6//v6//EN
BEGIN:VEVENT
UID:5b2aa9ef88251b1c3d0cee95@squarespace.com
DTSTAMP:20180620T193813Z
DTSTART:20180713T020000Z
DTEND:20180715T070000Z
SUMMARY:Finders Keepers Melbourne July Autumn/ Winter Market
GEO:-37.804745;144.971513
LOCATION:The Royal Exhibition Building\, 9 Nicholson Street\, Carlton\, VIC
 \, 3053\, Australia
END:VEVENT
END:VCALENDAR
